BEGIN:VCALENDAR
VERSION:2.0
PRODID:-//Pro-Life Action Ministries - ECPv6.15.17.1//NONSGML v1.0//EN
CALSCALE:GREGORIAN
METHOD:PUBLISH
X-WR-CALNAME:Pro-Life Action Ministries
X-ORIGINAL-URL:https://plam.org
X-WR-CALDESC:Events for Pro-Life Action Ministries
REFRESH-INTERVAL;VALUE=DURATION:PT1H
X-Robots-Tag:noindex
X-PUBLISHED-TTL:PT1H
BEGIN:VTIMEZONE
TZID:America/Chicago
BEGIN:DAYLIGHT
TZOFFSETFROM:-0600
TZOFFSETTO:-0500
TZNAME:CDT
DTSTART:20250309T080000
END:DAYLIGHT
BEGIN:STANDARD
TZOFFSETFROM:-0500
TZOFFSETTO:-0600
TZNAME:CST
DTSTART:20251102T070000
END:STANDARD
BEGIN:DAYLIGHT
TZOFFSETFROM:-0600
TZOFFSETTO:-0500
TZNAME:CDT
DTSTART:20260308T080000
END:DAYLIGHT
BEGIN:STANDARD
TZOFFSETFROM:-0500
TZOFFSETTO:-0600
TZNAME:CST
DTSTART:20261101T070000
END:STANDARD
BEGIN:DAYLIGHT
TZOFFSETFROM:-0600
TZOFFSETTO:-0500
TZNAME:CDT
DTSTART:20270314T080000
END:DAYLIGHT
BEGIN:STANDARD
TZOFFSETFROM:-0500
TZOFFSETTO:-0600
TZNAME:CST
DTSTART:20271107T070000
END:STANDARD
END:VTIMEZONE
BEGIN:VEVENT
DTSTART;TZID=America/Chicago:20260421T190000
DTEND;TZID=America/Chicago:20260421T210000
DTSTAMP:20260421T152455
CREATED:20210813T171710Z
LAST-MODIFIED:20260217T212336Z
UID:10000054-1776798000-1776805200@plam.org
SUMMARY:Sidewalk Ministry Training Seminar
DESCRIPTION:Sidewalk Counselors are ordinary people who offer literature to abortion-minded parents about the (1) Help Available\, (2) Humanity of Preborn Children\, and (3) Harm of Abortion\, while offering words of Truth and Love\, encouraging them to choose life\, and directing them to a Pregnancy Resource Center. \nNot sure whether sidewalk counseling is for you? Come and see! Christians of all denominations are encouraged to attend this free seminar. Sidewalk prayer supporters are also needed and welcome to attend. \nPresented by Pro-Life Action Ministries’ staff members with decades of sidewalk counseling experience and wisdom.  If you can hand someone a brochure\, you can help save a life! \nTuesday\, April 21\, 2026\n7:00 – 9:00 pm\nRevive Church\nYouth Room\n7849 West Broadway\nBrooklyn Park\, MN 55445 \nFor more information or to register\, contact gary.gillet@plam.org or call 651-797-6366. \nShare this printable flyer with your church or organization! \nIs God calling you to do more for the unborn? Learn more about sidewalk counseling here. \n\n 
URL:https://plam.org/event/sidewalk-ministry-training-seminar/
LOCATION:Revive Church\, 7849 W Broadway\, Brooklyn Park\, MN\, 55445\, United States
CATEGORIES:Twin Cities
ATTACH;FMTTYPE=image/png:https://plam.org/wp-content/uploads/2023/08/Evie-UpPP.png
END:VEVENT
BEGIN:VEVENT
DTSTART;TZID=America/Chicago:20260512T181500
DTEND;TZID=America/Chicago:20260512T210000
DTSTAMP:20260421T152455
CREATED:20220223T195753Z
LAST-MODIFIED:20260317T172551Z
UID:10000073-1778609700-1778619600@plam.org
SUMMARY:Life Banquet\, Central Florida
DESCRIPTION:Keynote Speaker:  Troy Newman\, President Operation Rescue\nWe are excited to welcome our Annual Life Banquet keynote speaker\, Troy Newman\, adopted at birth and raised in San Diego\, he has championed and fought tirelessly on behalf of the unborn for 34 years! \nAs President of Operation Rescue\, Troy is widely recognized for his innovative strategies\, bold leadership\, and fearless defense of the unborn. His efforts have resulted in the permanent closure of hundreds of abortion mills\, led dozens of abortionists to leave the abortion industry\, spared countless babies from abortion\, along with lives changed through the unwavering Gospel conviction and public offering of Jesus Christ. \nTroy served as a founding board member of the Center for Medical Progress\, the group behind the explosive undercover video series exposing Planned Parenthood’s trafficking in fetal remains. His work in that effort led to legal battles that resulted in a civil RICO judgment of over $18 million — a price he paid for his courageous stand for truth! \nTroy’s efforts have garnered national and international attention\, with features in Rolling Stone\, GQ\, USA Today\, the Wall Street Journal\, the New York Times\, the Los Angeles Times\, WND.com\, and countless other media outlets. He is a regular guest on radio and television programs and spent ten years co-hosting Life Talk\, a monthly video news magazine. \nA prolific writer and communicator\, Troy is the author of four books: Their Blood Cries Out\, Am I Now Your Enemy for Telling You the Truth\, Refocusing the Pro-Life Movement for Victory\, and Abortion Free. \nIn 2006\, Troy bought and closed ‘Central Women’s Services’\, an abortion facility in Wichita\, Kansas. He evicted the abortionist\, completely renovated the building with much prayer\, and established Operation Rescue’s national headquarters on-site\, along with being a memorial to the unborn children killed by abortion! \nTroy and his wife\, Mellissa\, homeschooled their five children on a small farm in Kansas and now enjoy life as grandparents to seven grandchildren. In his spare time\, Troy enjoys hunting\, ranching\, gardening\, and holds two black belts in martial arts. \n“Have not I commanded thee? Be strong and of a good courage; be not afraid\, neither be thou dismayed: for the Lord they God is with thee withersoever thou goest!” Joshua 1:9 \n \nLocation:\nCalvary Orlando\n1199 Clay Street\nWinter Park\, Fl  32789 \nTickets are $50 per person or choose a Table Sponsorship of 8 guests for $350. \nGet your tickets HERE or checks can be mailed to:\nPro-Life Action Ministries\n1163 Payne Ave\, St. Paul\, MN 55130\nPlease indicate CFL Banquet tickets on the Memo line. \nQuestions: contact Michele at 407-230-2557.
URL:https://plam.org/event/life-banquet-central-florida/
LOCATION:Calvary Assembly of God\, Orlando\, 1199 Clay Street\, Winter Park\, FL\, 32789
CATEGORIES:Central Florida
ATTACH;FMTTYPE=image/jpeg:https://plam.org/wp-content/uploads/2022/02/Troy-Newman-1.jpg
END:VEVENT
END:VCALENDAR